BEGIN:VCALENDAR
PRODID:-//eluceo/ical//2.0/EN
VERSION:2.0
CALSCALE:GREGORIAN
BEGIN:VEVENT
UID:event-310
DTSTAMP:20260420T080318Z
SUMMARY:New Years Dinner
DESCRIPTION:The holidays are officially over\, and it's time to kick off th
 e New Year with a bang! We're throwing an epic Welcome Back Dinner at La C
 ubanita Tilburg! Get ready for unlimited food\, endless drinks\, and all-a
 round good times!| All this craziness for just 3 euros – can you believe
  it? But wait\, there's more! Once we've filled our bellies\, we're taking
  the party to the next level at Cafe Boekanier. More drinks\, more laughs\
 , and more memories waiting to be made! Let's make a toast to new beginnin
 gs and unforgettable moments!
DTSTART:20240111T180000Z
DTEND:20240111T210000Z
END:VEVENT
BEGIN:VTIMEZONE
TZID:UTC
BEGIN:STANDARD
DTSTART:20240111T180000
TZNAME:UTC
TZOFFSETTO:+0000
TZOFFSETFROM:+0000
END:STANDARD
END:VTIMEZONE
END:VCALENDAR
